BEGIN:VCALENDAR
VERSION:2.0
PRODID:-//wp-events-plugin.com//7.2.3.1//EN
TZID:Europe/Copenhagen
X-WR-TIMEZONE:Europe/Copenhagen
BEGIN:VEVENT
UID:10@pc-geeks.dk
DTSTART;TZID=Europe/Copenhagen:20191018T180000
DTEND;TZID=Europe/Copenhagen:20191020T140000
DTSTAMP:20191009T212313Z
URL:https://pc-geeks.dk/events/pc-geeks-lan-6/
SUMMARY:PC-Geeks LAN #6
DESCRIPTION:Så er det snart tid til LAN igen!\n\nVi håber I allesammen vi
 l støtte op om det\, da det kunne være fedt at hænge ud IRL også i ste
 det for bare inde på Discord. Det hele bliver denne gang afholdt i Asaa B
 illard Klub i Asaa. Der vil være fiberbaseret internet til rådighed\, hv
 ilket skulle give rigeligt båndbredde til os allesammen (750/750 mbit)\, 
 ikke mindst hvis vi bruger forbindelsen hensynsfuldt og tænker på at der
  skal være plads til alle. Lokalerne ligger et stenkast fra Spar\, hvor d
 er kan indkøbes alt hvad man har brug for.\n\nStart: fredag 18. oktober 2
 019 kl. 18:00&nbsp\;\nSlut: søndag 20. oktober 2019 kl. 14:00&nbsp\;\nPri
 s: 150 kr. pr. person\nInternet: Fibernet (750/750 mbit)&nbsp\; \n&nbsp\;\
 n[caption id="attachment_5150" align="alignnone" width="600"] Internetforb
 indelsen leveres af Eniig\, som har tildelt os et hastighedsboost fra 100/
 100 mbit til 750/750 mbit under arrangementet.[/caption]\n\n&nbsp\;\nTilme
 ldingsproces\n&nbsp\;\n\nDu booker de billetter du ønsker via siden her (
 længere oppe\, under "Tilmelding")\, hvorefter du betaler for dem via Mob
 ilePay. Se information om dette længere nede. Har du en kommentar du øns
 ker at indsende sammen med din tilmelding\, kan det gøres i det dertil in
 drettede kommentarfelt. Det kræver at du er logget ind på siden\, for at
  du kan tilmelde dig. Har du problemer\, så kontakt mig (GibStorm) på Di
 scord eller via hjemmesiden.\n\nEr du under 18\, så skriv gerne lige dett
 e i kommentarfeltet.\n\nDer blev åbnet for tilmeldinger 22.09.2019.\n\n&n
 bsp\;\n\n&nbsp\;\nBetaling\n&nbsp\;\n\nEfter tilmelding/booking af billett
 er via siden her\, skal betaling foretages ved overførsel til vores via M
 obilePay Box.\nBlot send beløbet (150 kr) til box58520\nKoden box58520 in
 dtastes blot som modtager\, ganske som du plejer med mobilnummer.\nDu kan 
 også benytte dig af dette link: https://mobilepay.dk/box?untpG59t8PKm06I2
 7sd8Q8lLQ\n\nVed betaling\, så inkluder lige kommentar med Discord nickna
 me og evt. email\, så vi ved hvem du er.\n\nHar du spørgsmål eller prob
 lemer angående betaling\, så venligst kontakt mig (GibStorm) på Discord
  eller her på hjemmesiden.\n\nBetalingen vil gå til at dække udgifter i
  forbindelse med arrangementet. Det er ikke meningen vi skal tjene på det
 te på nogen måde.\n\nAlle tilmeldinger her på siden vil komme til at li
 gge som ubekræftede indtil betaling er modtaget.\nFørst ved modtagelse a
 f betaling vil der blive reserveret en plads til dig.\n\nHar du betalt for
  deltagelse\, men ender med ikke at kunne komme alligevel\, refunderes pen
 gene ikke. Dette skyldes at pengene udelukkende bruges til udgifter i forb
 indelse med begivenheden. Betalingen gør at vi sætter en plads til rådi
 ghed for dig med internet og strøm. Vælger du ikke at komme alligevel\, 
 er det dit eget valg.\n\nSkulle arrangementet (mod forventning) blive afly
 st\, vil pengene du har betalt selvfølgelig blive refunderet\, dog med un
 dtagelse af 5 kr som dækker udgifter til MobilePay Box betalingssystemet.
 \n\n&nbsp\;\n\nSidste tilmeldingsdato er 11. oktober 2019. (der lukkes for
  tilmeldinger ved midnat)\n\nHvis der er information der mangler\, så sig
  til.\n\nSkal du koordinere kørsel\, eller bare have et mere permanent st
 ed at diskutere praktiske ting mht LAN ud over på Discord\, så er der bl
 evet oprettet en dedikeret forum-sektion til dette LAN her.\n&nbsp\;\n&nbs
 p\;\nFAQ (ofte stillede spørgsmål)\n&nbsp\;\n\n[tp_accordionspro id="506
 2"]\n&nbsp\;\n&nbsp\;\nAndre informationer\n&nbsp\;\n\nPakkeliste på vore
 s forum\nSektion på forummet specifikt til debat om PC-Geeks LAN #6\n&nbs
 p\;\n&nbsp\;\nBilleder fra et tidligere LAN party\n&nbsp\;\n\nHer er lidt 
 billeder fra et tidligere LAN party\, hvis det skulle have interesse.\n\n[
 ngg src="galleries" ids="9" display="basic_imagebrowser"]&nbsp\;\n\n&nbsp\
 ;\nTabel over tilmeldinger\n&nbsp\;\n\n\n\n&nbsp\;\nNickname\nStatus (24/3
 0)\nDato\nKommentar\n\n\n01\nGibStorm\nTilmeldt\, bekræftet.\n21.09.2019\
 n(18+) Moderator\n\n\n02\nBixx82\nTilmeldt\, bekræftet.\n21.09.2019\n(18+
 ) Moderator\n\n\n03\nronskov\nTilmeldt\, bekræftet.\n22.09.2019\n(18+) Mo
 derator\n\n\n04\nAllanC83\nTilmeldt\, bekræftet.\n28.09.2019\n(18+)\n\n\n
 05\nagony\nTilmeldt\, bekræftet.\n30.09.2019\n(18+) Moderator\n\n\n06\nEp
 osig\nTilmeldt\, bekræftet.\n30.09.2019\n(18+)\n\n\n07\nPowerhero\nTilmel
 dt\, bekræftet.\n30.09.2019\n(18+)\n\n\n08\nbaker\nTilmeldt\, bekræftet.
 \n30.09.2019\n(18+)\n\n\n09\nKalln\nTilmeldt\, bekræftet.\n02.10.2019\n(1
 8+)\n\n\n10\nBekendt af Kalln\nTilmeldt\, bekræftet.\n02.10.2019\n(18+) B
 estilt af Kalln\n\n\n11\nBekendt af Kalln\nTilmeldt\, bekræftet.\n02.10.2
 019\n(u18) Bestilt af Kalln\n\n\n12\nBekendt af Kalln\nTilmeldt\, bekræft
 et.\n02.10.2019\n(u18) Bestilt af Kalln\n\n\n13\nBekendt af Kalln\nTilmeld
 t\, bekræftet.\n02.10.2019\n(u18) Bestilt af Kalln\n\n\n14\nHoumann\nTilm
 eldt\, bekræftet.\n03.10.2019\n(18+)\n\n\n15\nDennis Munk\nTilmeldt\, bek
 ræftet.\n03.10.2019\n(18+)\n\n\n16\nKimmykoso\nTilmeldt\, bekræftet.\n04
 .10.2019\n(18+)\n\n\n17\nPiilgrim\nTilmeldt\, bekræftet.\n06.10.2019\n(18
 +)\n\n\n18\nNinjaGamerDK\nTilmeldt\, bekræftet.\n06.10.2019\n(u18)\n\n\n1
 9\nBekendt af Kalln\nTilmeldt\, bekræftet.\n07.10.2019\n(u18) Bestilt af 
 Kalln\n\n\n20\nDavid B. J.\nTilmeldt\, bekræftet.\n07.10.2019\n(u18)\n\n\
 n21\nXplosiveAPPLE\nTilmeldt\, bekræftet.\n07.10.2019\n(u18)\n\n\n22\nFus
 y\nTilmeldt\, bekræftet.\n07.10.2019\n(18+)\n\n\n23\nSonrisk\nTilmeldt\, 
 bekræftet.\n08.10.2019\n(18+)\n\n\n24\nLasse Jensen\nTilmeldt\, bekræfte
 t.\n08.10.2019\n(u18)\n\n\n25\nFlew\nTilmeldt\, bekræftet.\n09.10.2019\n(
 18+)\n\n\n26\nBekendt af Flew\nTilmeldt\, bekræftet.\n09.10.2019\n(18+) B
 estilt af Flew\n\n\n27\nBekendt af Flew\nTilmeldt\, bekræftet.\n09.10.201
 9\n(u18) Bestilt af Flew\n\n\n\n&nbsp\;\n&nbsp\;
ATTACH;FMTTYPE=image/jpeg:https://pc-geeks.dk/wp-content/uploads/2019/09/P
 C-Geeks_LAN-party-6-tilmeld.png
CATEGORIES:LAN party
LOCATION:Asaa Billard Klub\, Vodbindervej 3\, Asaa\, 9340\, Nordjylland\, D
 enmark
GEO:57.14756500000001;10.404079000000024
X-APPLE-STRUCTURED-LOCATION;VALUE=URI;X-ADDRESS=Vodbindervej 3\, Asaa\, 934
 0\, Nordjylland\, Denmark;X-APPLE-RADIUS=100;X-TITLE=Asaa Billard Klub:geo
 :57.14756500000001,10.404079000000024
END:VEVENT
BEGIN:VTIMEZONE
TZID:Europe/Copenhagen
X-LIC-LOCATION:Europe/Copenhagen
BEGIN:DAYLIGHT
DTSTART:20190331T030000
TZOFFSETFROM:+0100
TZOFFSETTO:+0200
TZNAME:CEST
END:DAYLIGHT
END:VTIMEZONE
END:VCALENDAR